BEGIN:VCALENDAR
PRODID:-//Splash Event Planning System
VERSION:2.0
METHOD:PUBLISH
BEGIN:VEVENT
DTSTAMP:20210809T090904Z
UID:c4d71b8884fdca62dee0d546cfbeb64e73c0ec4d@quartzatworkfro
 mhome.qz.com
URL:http://quartzatworkfromhome.qz.com
DTSTART:20210610T150000Z
DTEND:20210610T160000Z
SUMMARY:How to get the most out of hybrid work
DESCRIPTION:Here is your unique link - \n\nFor the best expe
 rience, join this meeting on your desktop
LOCATION:
END:VEVENT
END:VCALENDAR
