BEGIN:VCALENDAR
PRODID:-//Splash Event Planning System
VERSION:2.0
METHOD:PUBLISH
BEGIN:VEVENT
DTSTAMP:20210525T152958Z
UID:feb604fc2fb3d7a9ae31823ff28aa09d6bbef202@quartzatworkfro
 mhome.qz.com
URL:http://quartzatworkfromhome.qz.com
DTSTART:20210513T150000Z
DTEND:20210513T160000Z
SUMMARY:How to master the art of connecting and networking 
DESCRIPTION:Here is your unique link - \n\nFor the best expe
 rience, join this meeting on your desktop
LOCATION:
END:VEVENT
END:VCALENDAR
